BEGIN:VCALENDAR
VERSION:2.0
PRODID:-//MIATO - ECPv6.2.4//NONSGML v1.0//EN
CALSCALE:GREGORIAN
METHOD:PUBLISH
X-WR-CALNAME:MIATO
X-ORIGINAL-URL:https://miato.tg
X-WR-CALDESC:évènements pour MIATO
REFRESH-INTERVAL;VALUE=DURATION:PT1H
X-Robots-Tag:noindex
X-PUBLISHED-TTL:PT1H
BEGIN:VTIMEZONE
TZID:Europe/Paris
BEGIN:DAYLIGHT
TZOFFSETFROM:+0100
TZOFFSETTO:+0200
TZNAME:CEST
DTSTART:20230326T010000
END:DAYLIGHT
BEGIN:STANDARD
TZOFFSETFROM:+0200
TZOFFSETTO:+0100
TZNAME:CET
DTSTART:20231029T010000
END:STANDARD
END:VTIMEZONE
BEGIN:VEVENT
DTSTART;VALUE=DATE:20231105
DTEND;VALUE=DATE:20231106
DTSTAMP:20260419T225310
CREATED:20231030T114403Z
LAST-MODIFIED:20231030T114403Z
UID:2394-1699142400-1699228799@miato.tg
SUMMARY:Dimanche 05 Novembre 2023
DESCRIPTION:09H00 Ouverture du marché\n11H30 Animation du site\n18H30 Concert Apothéose\n22H00 Fermeture du marché & fin
URL:https://miato.tg/event/dimanche-05-novembre-2023/
END:VEVENT
BEGIN:VEVENT
DTSTART;VALUE=DATE:20231104
DTEND;VALUE=DATE:20231105
DTSTAMP:20260419T225310
CREATED:20231030T113823Z
LAST-MODIFIED:20231030T120141Z
UID:2392-1699056000-1699142399@miato.tg
SUMMARY:Samedi 04 Novembre 2023
DESCRIPTION:09H00 Ouverture du marché \n13H30 Animation du site \n10H00 Diner de Gala : Cérémonie de clôture \n21H00 Nuit des stars
URL:https://miato.tg/event/samedi-04-novembre-2023/
LOCATION:Esplanade du palais des congrès\, Togo
END:VEVENT
BEGIN:VEVENT
DTSTART;VALUE=DATE:20231103
DTEND;VALUE=DATE:20231104
DTSTAMP:20260419T225310
CREATED:20230719T164603Z
LAST-MODIFIED:20231030T113503Z
UID:1124-1698969600-1699055999@miato.tg
SUMMARY:Vendredi 03 Novembre 2023
DESCRIPTION:09H00 Ouverture du marché \n10H00 Séminaire 2: Communication sur l’infrastructure nationale de la qualité \n14H30 Animation du site \n18H30 Spectacle de mode \n22H00 Fermeture du marché
URL:https://miato.tg/event/panels-de-discussion/
LOCATION:Esplanade du palais des congrès\, Togo
END:VEVENT
BEGIN:VEVENT
DTSTART;VALUE=DATE:20231102
DTEND;VALUE=DATE:20231103
DTSTAMP:20260419T225310
CREATED:20230719T164524Z
LAST-MODIFIED:20231030T113240Z
UID:1123-1698883200-1698969599@miato.tg
SUMMARY:Jeudi 02 Novembre 2023
DESCRIPTION:09H00 Ouverture du marché \n10H00 Panel 2: Quelle place pour l’artisanat dans les plans de développement communaux au Togo ? \n18H30 Animation du site \n21H00 Fermeture du marché
URL:https://miato.tg/event/animation-podium-3/
LOCATION:Esplanade du palais des congrès\, Togo
END:VEVENT
BEGIN:VEVENT
DTSTART;VALUE=DATE:20231101
DTEND;VALUE=DATE:20231102
DTSTAMP:20260419T225310
CREATED:20230719T164440Z
LAST-MODIFIED:20231030T113050Z
UID:1122-1698796800-1698883199@miato.tg
SUMMARY:Mercredi 1 Novembre 2023
DESCRIPTION:09H00 Ouverture du marché \n14H30 Atelier démonstratif \n18H30 Animation du site \n21H00 Fermeture du marché
URL:https://miato.tg/event/spectacle-de-mode/
LOCATION:Esplanade du palais des congrès\, Togo
END:VEVENT
BEGIN:VEVENT
DTSTART;VALUE=DATE:20231031
DTEND;VALUE=DATE:20231101
DTSTAMP:20260419T225310
CREATED:20230719T164328Z
LAST-MODIFIED:20231030T112912Z
UID:1120-1698710400-1698796799@miato.tg
SUMMARY:Mardi 31 Octobre 2023
DESCRIPTION:09H00 Ouverture du marché \n10H00 Séminaire 1 : Communication sur la charte de TPME\, Technique de promotion et de vente des produits et services artisanaux en ligne \nexposants \n18H30 Animation du site \n21H00 Fermeture du marché
URL:https://miato.tg/event/formations/
LOCATION:Esplanade du palais des congrès\, Togo
END:VEVENT
BEGIN:VEVENT
DTSTART;VALUE=DATE:20231030
DTEND;VALUE=DATE:20231031
DTSTAMP:20260419T225310
CREATED:20230719T164241Z
LAST-MODIFIED:20231030T112921Z
UID:1119-1698624000-1698710399@miato.tg
SUMMARY:Lundi 30 Octobre 2023
DESCRIPTION:09H00 Ouverture du marché \n14H30 Panel 1 : L‘artisanat à l’ère de l’autonomisation de la femme et du numérique : enjeux et défis \n16H00 Animation du site \n21H00 Fermeture du marché
URL:https://miato.tg/event/concert-du-pays-invite-2/
LOCATION:Esplanade du palais des congrès\, Togo
END:VEVENT
END:VCALENDAR